BEGIN:VCALENDAR
VERSION:2.0
PRODID:-//hacksw/handcal//NONSGML v1.0//EN
BEGIN:VEVENT
UID:b51f8f20e2c297699da551983d32ea2d
DTSTAMP:20260421T175501Z

DTSTART:20250130T183000
DTEND:20250130T210000
SUMMARY:Торгово-промышленно-финансовый интернет: почему это невозможно сейчас
DESCRIPTION:Объявляем баталию! Приглашаем вас на открытую встречу, где мы детально обсудим и подвергнем критике концепцию разработки базового стека технологий Онтосети и торгово-промышленно-финансового интернета.\nМодератор Виктор Буняк проведет критику идеи в попытке доказать невозможность построения торгово-промышленно-финансовый интернета в наши дни.\nКоманда "Онтосети" постарается отстоять тезис, что Онтосеть не просто возможна, но и имеет все шансы быть реализована в короткие сроки, ибо настало время - здесь и сейчас!\n\nБаталия состоится в штаб-квартире Консорциума "Онтосеть" 30.01.25 с 18:30 до 21.\nАдрес: г. Москва, ул. Макаренко, д. 2/21.\nМы ждем активного участия и открытых дискуссий! Это мероприятие — отличная возможность обменяться мнениями, критически оценить сложные идеи и совместно искать альтернативные подходы.

X-ALT-DESC;FMTTYPE=text/html:<!DOCTYPE HTML PUBLIC "-//W3C//DTD HTML 3.2//EN">\n<HTML>\n<HEAD>\n<META NAME="Generator" CONTENT="MS Exchange Server version 08.00.0681.000">\n<TITLE></TITLE>\n</HEAD>\n<BODY>\n<!-- Converted from text/rtf format -->\n\n<p class="p1">Объявляем баталию! Приглашаем вас на открытую встречу, где мы детально обсудим и подвергнем критике концепцию разработки базового стека технологий Онтосети и торгово-промышленно-финансового интернета.</p><br /><p class="p1">Модератор Виктор Буняк проведет критику идеи в попытке доказать невозможность построения торгово-промышленно-финансовый интернета в наши дни.</p><br /><p class="p1">Команда "Онтосети" постарается отстоять тезис, что Онтосеть не просто возможна, но и имеет все шансы быть реализована в короткие сроки, ибо настало время - здесь и сейчас!<br /><br />Баталия состоится в штаб-квартире Консорциума "Онтосеть" 30.01.25 с 18:30 до 21.</p><br /><p class="p1">Адрес: г. Москва, ул. Макаренко, д. 2/21.</p><br /><p>Мы ждем активного участия и открытых дискуссий! Это мероприятие — отличная возможность обменяться мнениями, критически оценить сложные идеи и совместно искать альтернативные подходы.</p>\n\n</BODY>\n</HTML>

LOCATION:2/21 с2, улица Макаренко, Ивановская горка, Басманный район, Москва, Центральный федеральный округ, 105062, Россия
END:VEVENT

END:VCALENDAR
