BEGIN:VCALENDAR
VERSION:2.0
PRODID:-//hacksw/handcal//NONSGML v1.0//EN
BEGIN:VEVENT
UID:a85d6f87a88ceb70fe915a403329e23c
DTSTAMP:20260419T131647Z

DTSTART:20250130T150000
DTEND:20250130T160000
SUMMARY:Эфир на тему "Общество свободного труда: утопия или шанс человечества на выживание?"
DESCRIPTION:\n\nПервый вводный эфир из цикла по книге Сергея Васильевича Ганзя "Диалектика собственности".\n\nПостановка вопроса. Цели, задачи, язык и методология книги. Читательская аудитория.\n•⁠  ⁠какой труд следует считать свободным и чем он отличается от труда наемного\n•⁠  ⁠противоречия и угрозы, порождаемые системой наемного труда\n•⁠  ⁠основное экономическое условие освобождения труда – наличие у труженика собственности, необходимой для организации производства\n•⁠  ⁠экономические отношения собственности – предмет исследования\n•⁠  ⁠с какой целью написана работа – попытка сформировать образ экономики будущего\n•⁠  ⁠язык книги – политико-экономический\n•⁠  ⁠читательская аудитория – философы, политэкономы, методологи IT-технологий.\n\n

X-ALT-DESC;FMTTYPE=text/html:<!DOCTYPE HTML PUBLIC "-//W3C//DTD HTML 3.2//EN">\n<HTML>\n<HEAD>\n<META NAME="Generator" CONTENT="MS Exchange Server version 08.00.0681.000">\n<TITLE></TITLE>\n</HEAD>\n<BODY>\n<!-- Converted from text/rtf format -->\n\n<div class="profile-data-info__data"><br /><div class="profile-data-info__content"><br /><p>Первый вводный эфир из цикла по книге Сергея Васильевича Ганзя "Диалектика собственности".<br /><br />Постановка вопроса. Цели, задачи, язык и методология книги. Читательская аудитория.</p><br /><p class="p1">•⁠<span class="Apple-converted-space">  </span>⁠какой труд следует считать свободным и чем он отличается от труда наемного<br />•⁠<span class="Apple-converted-space">  </span>⁠противоречия и угрозы, порождаемые системой наемного труда<br />•⁠<span class="Apple-converted-space">  </span>⁠основное экономическое условие освобождения труда – наличие у труженика собственности, необходимой для организации производства<br />•⁠<span class="Apple-converted-space">  </span>⁠экономические отношения собственности – предмет исследования<br />•⁠<span class="Apple-converted-space">  </span>⁠с какой целью написана работа – попытка сформировать образ экономики будущего<br />•⁠<span class="Apple-converted-space">  </span>⁠язык книги – политико-экономический<br />•⁠<span class="Apple-converted-space">  </span>⁠читательская аудитория – философы, политэкономы, методологи IT-технологий.</p><br /></div><br /></div>\n\n</BODY>\n</HTML>

LOCATION:2/21 с2, улица Макаренко, Ивановская горка, Басманный район, Москва, Центральный федеральный округ, 105062, Россия
END:VEVENT

END:VCALENDAR
